BEGIN:VCALENDAR
VERSION:2.0
PRODID:-//Parthenay Historique - ECPv6.15.20//NONSGML v1.0//EN
CALSCALE:GREGORIAN
METHOD:PUBLISH
X-ORIGINAL-URL:https://parthenayhistorique.ma-ville-en-3d.fr
X-WR-CALDESC:Évènements pour Parthenay Historique
REFRESH-INTERVAL;VALUE=DURATION:PT1H
X-Robots-Tag:noindex
X-PUBLISHED-TTL:PT1H
BEGIN:VTIMEZONE
TZID:UTC
BEGIN:STANDARD
TZOFFSETFROM:+0000
TZOFFSETTO:+0000
TZNAME:UTC
DTSTART:20250101T000000
END:STANDARD
END:VTIMEZONE
BEGIN:VEVENT
DTSTART;VALUE=DATE:20260425
DTEND;VALUE=DATE:20260426
DTSTAMP:20260422T231723
CREATED:20260420T151927Z
LAST-MODIFIED:20260420T153220Z
UID:2479-1777075200-1777161599@parthenayhistorique.ma-ville-en-3d.fr
SUMMARY:Marché de Printemps - marché de créateurs + vide-grenier + animation musicale à Les Groseillers le samedi 25 avril 2026
DESCRIPTION:le comité des fêtes des groseillers(79220) vous propose un marché de printemps avec des créateurs et un vide grenier\,le 25 avril de 8h à 18h.\n\n\nNous vous attendons nombreux!\n\n\n\n\n\n(PS:le lieu du marché se trouve dans un champ au lieu dit le couvent.)
URL:https://parthenayhistorique.ma-ville-en-3d.fr/event/marche-de-printemps-marche-de-createurs-vide-grenier-animation-musicale-a-les-groseillers-le-samedi-25-avril-2026/
LOCATION:Les Groseillers\, les groseillers\, 79220
CATEGORIES:Divers,Spectacles,Vide-grenier
ATTACH;FMTTYPE=image/webp:https://parthenayhistorique.ma-ville-en-3d.fr/wp-content/uploads/2026/04/2026-04-25-marche-de-printemps-a-les-groseillers.webp
END:VEVENT
BEGIN:VEVENT
DTSTART;VALUE=DATE:20260425
DTEND;VALUE=DATE:20260426
DTSTAMP:20260422T231723
CREATED:20260422T163907Z
LAST-MODIFIED:20260422T164223Z
UID:2645-1777075200-1777161599@parthenayhistorique.ma-ville-en-3d.fr
SUMMARY:Foire aux plantes le samedi 25 avril 2026 dans la cour de l’école St Laurent à La Chapelle St Laurent
DESCRIPTION:Retrouvez nous à la 𝗙𝗼𝗶𝗿𝗲 𝗮𝘂𝘅 𝗣𝗹𝗮𝗻𝘁𝗲𝘀 organisée par l’Apel de l’école Saint Laurent (cour de l’école St Laurent- 79430). \nNous y tiendrons un stand: vente de saucissons et objets à l’effigie de l’association. \nVenez nous rencontrer pour échanger\, et découvrir notre association. \nUne belle journée organisée par l’Apel Saint Laurent à ne pas manquer.
URL:https://parthenayhistorique.ma-ville-en-3d.fr/event/foire-aux-plantes-le-samedi-25-avril-2026-dans-la-cour-de-lecole-st-laurent-a-la-chapelle-st-laurent/
LOCATION:La Chapelle St Laurent\, la chapelle st laurent\, 79430
CATEGORIES:Divers
ATTACH;FMTTYPE=image/jpeg:https://parthenayhistorique.ma-ville-en-3d.fr/wp-content/uploads/2026/04/672676332_122114364177248149_6955329599525224302_n-tVMPWO.jpg
END:VEVENT
BEGIN:VEVENT
DTSTART;VALUE=DATE:20260425
DTEND;VALUE=DATE:20260427
DTSTAMP:20260422T231723
CREATED:20260406T154932Z
LAST-MODIFIED:20260406T155221Z
UID:1660-1777075200-1777247999@parthenayhistorique.ma-ville-en-3d.fr
SUMMARY:En Quête de Jeux - 2 enquêtes dans la ville - 25 et 26 avril 2026 place du Drapeau - Parthenay
DESCRIPTION:
URL:https://parthenayhistorique.ma-ville-en-3d.fr/event/en-quete-de-jeux-2-enquetes-dans-la-ville-25-et-26-avril-2026-place-du-drapeau-parthenay/
LOCATION:Palais des congres\, Parthenay\, 79200
CATEGORIES:Jeux
ATTACH;FMTTYPE=image/webp:https://parthenayhistorique.ma-ville-en-3d.fr/wp-content/uploads/2026/04/en-quete-de-jeux-25et26avril-place-du-drapeau.webp
END:VEVENT
BEGIN:VEVENT
DTSTART;VALUE=DATE:20260425
DTEND;VALUE=DATE:20260427
DTSTAMP:20260422T231723
CREATED:20260407T082145Z
LAST-MODIFIED:20260407T082145Z
UID:1721-1777075200-1777247999@parthenayhistorique.ma-ville-en-3d.fr
SUMMARY:Show\, expo voiture Tunning + concert...à Parthenay les 25 et 26 avril 2026
DESCRIPTION:Samedi 10h-23h et dimanche 9h-17h. \n– Show drift avec baptême + Show rally avec baptême + Show stunt .– Démonstration dragster méca et shoot by Maxiscoot. \n– Exposition camion / auto / moto / mob / dragster .– Concert le samedi soir. \n17 rue du President Salvador Allende 79200 Parthenay
URL:https://parthenayhistorique.ma-ville-en-3d.fr/event/show-expo-voiture-tunning-concert-a-parthenay-les-25-et-26-avril-2026/
LOCATION:Parthenay 79\, Parthenay\, 79200
CATEGORIES:Concerts,Expositions
ATTACH;FMTTYPE=image/webp:https://parthenayhistorique.ma-ville-en-3d.fr/wp-content/uploads/2026/04/2026-04-25et26-expo-voitures-tunning-parthenay.webp
END:VEVENT
BEGIN:VEVENT
DTSTART;VALUE=DATE:20260425
DTEND;VALUE=DATE:20260427
DTSTAMP:20260422T231723
CREATED:20260422T160950Z
LAST-MODIFIED:20260422T161444Z
UID:2626-1777075200-1777247999@parthenayhistorique.ma-ville-en-3d.fr
SUMMARY:Fête d’avril au Tallud le samedi 25 et le dimanche 26 avril 2026
DESCRIPTION:Dégustation de vin – artisanat local – jeux + repas le soir
URL:https://parthenayhistorique.ma-ville-en-3d.fr/event/fete-davril-au-tallud-le-samedi-25-et-le-dimanche-26-avril-2026/
LOCATION:Le Tallud\, le tallud\, 79200
CATEGORIES:Divers,Expositions,Jeux
ATTACH;FMTTYPE=image/jpeg:https://parthenayhistorique.ma-ville-en-3d.fr/wp-content/uploads/2026/04/674258044_27171339612449950_6004173839523750191_n-yJal7p.jpg
END:VEVENT
BEGIN:VEVENT
DTSTART;VALUE=DATE:20260426
DTEND;VALUE=DATE:20260427
DTSTAMP:20260422T231723
CREATED:20260410T072415Z
LAST-MODIFIED:20260410T072415Z
UID:1885-1777161600-1777247999@parthenayhistorique.ma-ville-en-3d.fr
SUMMARY:Vide Grenier à Fenioux le dimanche 26 avril 2026 de 8h à 18h
DESCRIPTION:13 rue de Parthenay 79160 Fenioux.
URL:https://parthenayhistorique.ma-ville-en-3d.fr/event/vide-grenier-a-fenioux-le-dimanche-26-avril-2026-de-8h-a-18h/
LOCATION:Fenioux\, fenioux\, 79160
CATEGORIES:Vide-grenier
ATTACH;FMTTYPE=image/webp:https://parthenayhistorique.ma-ville-en-3d.fr/wp-content/uploads/2026/04/2026-04-26-vide-grenier-fenioux.webp
END:VEVENT
BEGIN:VEVENT
DTSTART;VALUE=DATE:20260426
DTEND;VALUE=DATE:20260427
DTSTAMP:20260422T231723
CREATED:20260413T174204Z
LAST-MODIFIED:20260413T175021Z
UID:2153-1777161600-1777247999@parthenayhistorique.ma-ville-en-3d.fr
SUMMARY:vide maison à exireuil samedi 25 et dimanche 26 avril 2026 de 10h à 19h à Exireuil
DESCRIPTION:
URL:https://parthenayhistorique.ma-ville-en-3d.fr/event/vide-maison-a-exireuil-samedi-25-et-dimanche-26-avril-2026-de-10h-a-19h-a-exireuil-2/
LOCATION:Exireuil\, exireuil\, 79400
CATEGORIES:Vide-grenier
ATTACH;FMTTYPE=image/jpeg:https://parthenayhistorique.ma-ville-en-3d.fr/wp-content/uploads/2026/04/662111029_26622036634059604_3270450224494859712_n-gYJ2UY.jpg
END:VEVENT
BEGIN:VEVENT
DTSTART;VALUE=DATE:20260426
DTEND;VALUE=DATE:20260427
DTSTAMP:20260422T231723
CREATED:20260420T152406Z
LAST-MODIFIED:20260420T152406Z
UID:2483-1777161600-1777247999@parthenayhistorique.ma-ville-en-3d.fr
SUMMARY:Vide-Grenier à St Varent le dimanche 26 avril 2026
DESCRIPTION:place du 14 juillet de 8h à 18h
URL:https://parthenayhistorique.ma-ville-en-3d.fr/event/vide-grenier-a-st-varent-le-dimanche-26-avril-2026/
LOCATION:St Varent\, saint varent\, 79330
CATEGORIES:Vide-grenier
ATTACH;FMTTYPE=image/webp:https://parthenayhistorique.ma-ville-en-3d.fr/wp-content/uploads/2026/04/2026-04-26-vide-grenier-a-st-varent.webp
END:VEVENT
BEGIN:VEVENT
DTSTART;VALUE=DATE:20260426
DTEND;VALUE=DATE:20260427
DTSTAMP:20260422T231723
CREATED:20260422T160953Z
LAST-MODIFIED:20260422T161639Z
UID:2630-1777161600-1777247999@parthenayhistorique.ma-ville-en-3d.fr
SUMMARY:Balade avec vos chiens le dimanche 26 avril à 10h au parking de la prée à Parthenay
DESCRIPTION:10h au parking de la prée rue du moulin
URL:https://parthenayhistorique.ma-ville-en-3d.fr/event/balade-avec-vos-chiens-le-dimanche-26-avril-a-10h-au-parking-de-la-pree-a-parthenay/
LOCATION:Parthenay 79\, Parthenay\, 79200
CATEGORIES:Divers
ATTACH;FMTTYPE=image/jpeg:https://parthenayhistorique.ma-ville-en-3d.fr/wp-content/uploads/2026/04/584633986_1368209368182909_1752098742066572967_n-MQm13T.jpg
END:VEVENT
BEGIN:VEVENT
DTSTART;VALUE=DATE:20260426
DTEND;VALUE=DATE:20260427
DTSTAMP:20260422T231723
CREATED:20260422T163906Z
LAST-MODIFIED:20260422T164124Z
UID:2643-1777161600-1777247999@parthenayhistorique.ma-ville-en-3d.fr
SUMMARY:Théâtre : soyez zen à Thouars le dimanche 26 avril 2026 à 15h
DESCRIPTION:sur réservation
URL:https://parthenayhistorique.ma-ville-en-3d.fr/event/theatre-soyez-zen-a-thouars-le-dimanche-26-avril-2026-a-15h/
LOCATION:Thouars\, thouars\, 79100
CATEGORIES:Spectacles
ATTACH;FMTTYPE=image/jpeg:https://parthenayhistorique.ma-ville-en-3d.fr/wp-content/uploads/2026/04/675038929_27283536177896482_706270006055061806_n-nriVq3.jpg
END:VEVENT
BEGIN:VEVENT
DTSTART;VALUE=DATE:20260426
DTEND;VALUE=DATE:20260427
DTSTAMP:20260422T231723
CREATED:20260422T163908Z
LAST-MODIFIED:20260422T164317Z
UID:2647-1777161600-1777247999@parthenayhistorique.ma-ville-en-3d.fr
SUMMARY:Portes ouvertes à la Poterie de Saint-Varent le dimanche 26 avril de 8h30 à 18h
DESCRIPTION:(30km/28minutes de Parthenay)
URL:https://parthenayhistorique.ma-ville-en-3d.fr/event/portes-ouvertes-a-la-poterie-de-saint-varent-le-dimanche-26-avril-de-8h30-a-18h/
LOCATION:St Varent\, saint varent\, 79330
CATEGORIES:Ateliers Créatifs,Expositions
ATTACH;FMTTYPE=image/jpeg:https://parthenayhistorique.ma-ville-en-3d.fr/wp-content/uploads/2026/04/676617579_122301916082238599_5806572194938757428_n-rLJgaI.jpg
END:VEVENT
BEGIN:VEVENT
DTSTART;VALUE=DATE:20260430
DTEND;VALUE=DATE:20260501
DTSTAMP:20260422T231723
CREATED:20260415T185526Z
LAST-MODIFIED:20260415T185526Z
UID:2248-1777507200-1777593599@parthenayhistorique.ma-ville-en-3d.fr
SUMMARY:Concerts No Fun at All + Not Scientists + Dirty Douchebag le jeudi 30 avril 2026 à la salle Diff'Art de Parthenay
DESCRIPTION:
URL:https://parthenayhistorique.ma-ville-en-3d.fr/event/concerts-no-fun-at-all-not-scientists-dirty-douchebag-le-jeudi-30-avril-2026-a-la-salle-diffart-de-parthenay/
LOCATION:Parthenay 79\, Parthenay\, 79200
CATEGORIES:Concerts
ATTACH;FMTTYPE=image/webp:https://parthenayhistorique.ma-ville-en-3d.fr/wp-content/uploads/2026/04/2026-04-30-concert-no-fun-a-diffart.webp
END:VEVENT
BEGIN:VEVENT
DTSTART;VALUE=DATE:20260501
DTEND;VALUE=DATE:20260502
DTSTAMP:20260422T231723
CREATED:20260410T075354Z
LAST-MODIFIED:20260410T075513Z
UID:1899-1777593600-1777679999@parthenayhistorique.ma-ville-en-3d.fr
SUMMARY:Vide Grenier à Fenery + concours de Pétanque le 1e Mai 2026
DESCRIPTION:Concours de pétanque à 14h. \nStand nature de l’APE. \nRestauration sur place.
URL:https://parthenayhistorique.ma-ville-en-3d.fr/event/vedi-grenier-a-fenery-le-1e-mai-2026/
LOCATION:Fenery\, Fenery\, 79450
CATEGORIES:Jeux,Vide-grenier
ATTACH;FMTTYPE=image/webp:https://parthenayhistorique.ma-ville-en-3d.fr/wp-content/uploads/2026/04/2026-05-01-vide-grenier-fenery.webp
END:VEVENT
BEGIN:VEVENT
DTSTART;VALUE=DATE:20260501
DTEND;VALUE=DATE:20260502
DTSTAMP:20260422T231723
CREATED:20260422T160948Z
LAST-MODIFIED:20260422T161249Z
UID:2622-1777593600-1777679999@parthenayhistorique.ma-ville-en-3d.fr
SUMMARY:Fête des plantes a Champdeniers le 1e mai 2026
DESCRIPTION:
URL:https://parthenayhistorique.ma-ville-en-3d.fr/event/fete-des-plantes-a-champdeniers-le-1e-mai-2026/
LOCATION:Champdeniers\, champdeniers\, 79220
CATEGORIES:Divers,Expositions
ATTACH;FMTTYPE=image/jpeg:https://parthenayhistorique.ma-ville-en-3d.fr/wp-content/uploads/2026/04/675860989_984490177439885_5433651686195186785_n-ebuiMw-scaled.jpg
END:VEVENT
BEGIN:VEVENT
DTSTART;VALUE=DATE:20260501
DTEND;VALUE=DATE:20260503
DTSTAMP:20260422T231723
CREATED:20260411T100851Z
LAST-MODIFIED:20260411T100851Z
UID:2041-1777593600-1777766399@parthenayhistorique.ma-ville-en-3d.fr
SUMMARY:Théâtre par les élèves du Collège Le Marchioux (classe théâtre)\, à la MCP le vendredi 1e mai et samedi 02 mai 2026 à 20h30
DESCRIPTION:1er et 2 mai – MCP : Ah? soutient la 12ème création de la Classe Horaire Aménagé Théâtre du Collège Le Marchioux – Ville de Parthenay] Ils sont 13 collégiens de 4ème et de 3ème et ils s’attaquent à un monument : Roméo et Juliette de Shakespeare\, dans la facétieuse réécriture de Pascal Arnaud.Vendredi 1er et samedi 2 mai – 20h30Maison des cultures de pays – Parthenay« L’EPOUVANTABLE HISTOIRE DE ROMEO ET JULEITTE »Tout public dès 8 ans – 8/6/3 euros – 50 min. – Jauge limitéeMise en scène : Hélène Arnaud>>> Le propos du spectacle : ll est question de l’émerveillement de l’amour sorti tout droit de l’enfance\, de magie\, d’ensorcellement\, de malédiction familiales\, d’une rébellion pleine d’espoir\, de transgression\, de coup de foudre\, d’absolu\, d’aventure. On vous prévient\, ça finit mal\, de toute façon. Mais ne vous inquiétez pas\, on rit aussi.  Pour réserver : 05 49 71 22 37 / resahsaison.festival@gmail.comBilletterie en ligne : HelloAssoAvec le soutien de : Education Nationale\, Conseil départemental des Deux-Sèvres\, Ville de Parthenay\, CARUG\, Ah?
URL:https://parthenayhistorique.ma-ville-en-3d.fr/event/theatre-par-les-eleves-du-college-le-marchioux-classe-theatre-a-la-mcp-le-vendredi-1e-mai-et-samedi-02-mai-2026-a-20h30/
LOCATION:Parthenay 79\, Parthenay\, 79200
CATEGORIES:Spectacles
ATTACH;FMTTYPE=image/webp:https://parthenayhistorique.ma-ville-en-3d.fr/wp-content/uploads/2026/04/2026-05-01et02-theatre-collegiens-a-la-MCP.webp
END:VEVENT
BEGIN:VEVENT
DTSTART;VALUE=DATE:20260501
DTEND;VALUE=DATE:20260504
DTSTAMP:20260422T231723
CREATED:20260415T182709Z
LAST-MODIFIED:20260415T182709Z
UID:2239-1777593600-1777852799@parthenayhistorique.ma-ville-en-3d.fr
SUMMARY:Ouverture de la ferme La Balade des Autruches à La Peyratte\, samedi et dimanche 18 et19 avril puis du vendredi 1e mai au dimanche 3 mai 2026 - Copy
DESCRIPTION:[Printemps à la ferme – portes ouvertes] Un air de savane à La Peyratte !Envie d’une sortie qui sort de l’ordinaire ? Dans le cadre du Printemps à la Ferme organisé par Bienvenue à la ferme Deux-Sevres\, « La balade des Autruches  » vous ouvre ses portes pour une expérience totalement dépaysante ! Venez faire connaissance avec des hôtes impressionnants : autruches\, émeus et nandous vous attendent\, aux côtés des chèvres\, moutons et poneys de la ferme. Au programme : Visites libres ou guidées du parc. Rencontre avec le producteur passionné. Un grand moment de partage en pleine nature.le petit plus : C’est GRATUIT pour les enfants !samedi 18 et dimanche 19 avril\, vendredi 1er\, samedi 2 et dimanche 3 mai 202614h30 à 18h30 34 Route de la Forge\, La Peyratte (79).: 06 72 22 29 43 www.labaladedesautruches79.comAlors\, prêts pour l’aventure ? Identifiez en commentaire la personne avec qui vous aimeriez y aller !
URL:https://parthenayhistorique.ma-ville-en-3d.fr/event/ouverture-de-la-ferme-la-balade-des-autruches-a-la-peyratte-samedi-et-dimanche-18-et19-avril-puis-du-vendredi-1e-mai-au-dimanche-3-mai-2026-copy/
LOCATION:La Peyratte\, la peyratte\, 79200
CATEGORIES:Divers
ATTACH;FMTTYPE=image/webp:https://parthenayhistorique.ma-ville-en-3d.fr/wp-content/uploads/2026/04/Ouverture-de-la-ferme-La-balade-des-Autruches-a-La-Peyrate-les-18et19avril-et-1.2.3mai2026.webp
END:VEVENT
BEGIN:VEVENT
DTSTART;VALUE=DATE:20260501
DTEND;VALUE=DATE:20260511
DTSTAMP:20260422T231723
CREATED:20260406T061202Z
LAST-MODIFIED:20260407T072121Z
UID:1506-1777593600-1778457599@parthenayhistorique.ma-ville-en-3d.fr
SUMMARY:Exposition peintures aux Livres Nomades du 1e au 10 mai 2026
DESCRIPTION:Exposition aux Livres Nomades. \n14h-19h tous les jours. \n14h-21h vendredi et samedi. \nEntrée gratuite. \nInauguration vendredi 1e mai à 18h \n+ \nConcert des « Syncopées » le 3 mai à 15H
URL:https://parthenayhistorique.ma-ville-en-3d.fr/event/exposition-peintures-aux-livres-nomades-du-1e-au-10-mai-2026/
LOCATION:Livres Nomades Parthenay\, 14 rue du sépulcre\, Parthenay\, 79200
CATEGORIES:Expositions
ATTACH;FMTTYPE=image/webp:https://parthenayhistorique.ma-ville-en-3d.fr/wp-content/uploads/2026/04/2026-05-01au10-expo-XXL-livres-nomades.webp
END:VEVENT
BEGIN:VEVENT
DTSTART;VALUE=DATE:20260502
DTEND;VALUE=DATE:20260503
DTSTAMP:20260422T231723
CREATED:20260410T075948Z
LAST-MODIFIED:20260410T075948Z
UID:1905-1777680000-1777766399@parthenayhistorique.ma-ville-en-3d.fr
SUMMARY:Exposition Patchwork le samedi 02 mai 2026 à Vernoux-en-Gâtine de 10h à 17h
DESCRIPTION:A la salle des fêtes
URL:https://parthenayhistorique.ma-ville-en-3d.fr/event/exposition-patchwork-le-samedi-02-mai-2026-a-vernoux-en-gatine-de-10h-a-17h/
LOCATION:Vernoux en Gatine\, vernoux en gatine\, 79240
CATEGORIES:Expositions
ATTACH;FMTTYPE=image/webp:https://parthenayhistorique.ma-ville-en-3d.fr/wp-content/uploads/2026/04/2026-05-02-expo-patchwork-Vernoux-en-gatine.webp
END:VEVENT
BEGIN:VEVENT
DTSTART;VALUE=DATE:20260503
DTEND;VALUE=DATE:20260504
DTSTAMP:20260422T231723
CREATED:20260406T061826Z
LAST-MODIFIED:20260406T131012Z
UID:1510-1777766400-1777852799@parthenayhistorique.ma-ville-en-3d.fr
SUMMARY:Concert SyncopéEs le 3 mai 2026 à 16h aux Livres Nomades
DESCRIPTION:Concert gratuit « SyncopéEs » le 3 mai 2026 à 16h à l’exposition XXL aux Livres Nomades
URL:https://parthenayhistorique.ma-ville-en-3d.fr/event/concert-syncopees-le-3-mai-2026-a-16h-aux-livres-nomades/
LOCATION:Livres Nomades Parthenay\, 14 rue du sépulcre\, Parthenay\, 79200
CATEGORIES:Concerts
ATTACH;FMTTYPE=image/webp:https://parthenayhistorique.ma-ville-en-3d.fr/wp-content/uploads/2026/04/2026-05-03-concert-syncopees-livres-nomades.webp
END:VEVENT
BEGIN:VEVENT
DTSTART;VALUE=DATE:20260503
DTEND;VALUE=DATE:20260504
DTSTAMP:20260422T231723
CREATED:20260407T065435Z
LAST-MODIFIED:20260407T072236Z
UID:1683-1777766400-1777852799@parthenayhistorique.ma-ville-en-3d.fr
SUMMARY:Vide Grenier parking ecole Jacques Prevert à Parthenay\, le dimanche 03 mai 2026 de 8h à 17h30
DESCRIPTION:buvette et restauration sur place
URL:https://parthenayhistorique.ma-ville-en-3d.fr/event/vide-grenier-parking-ecole-jacques-prevert-a-parthenay-le-dimanche-03-mai-2026-de-8h-a-17h30/
LOCATION:Ecole Jacques Prevert\, 12 rue Clement Ader\, Parthenay\, 79200
CATEGORIES:Vide-grenier
ATTACH;FMTTYPE=image/webp:https://parthenayhistorique.ma-ville-en-3d.fr/wp-content/uploads/2026/04/2026-05-03-vide-grenier-ecole-jacques-prevert.webp
END:VEVENT
BEGIN:VEVENT
DTSTART;VALUE=DATE:20260504
DTEND;VALUE=DATE:20260505
DTSTAMP:20260422T231723
CREATED:20260420T154103Z
LAST-MODIFIED:20260420T154346Z
UID:2490-1777852800-1777939199@parthenayhistorique.ma-ville-en-3d.fr
SUMMARY:Grande vente de volailles à St Varent le lundi 4 mai 2026 (sur réservation)
DESCRIPTION:
URL:https://parthenayhistorique.ma-ville-en-3d.fr/event/grande-vente-de-volailles-a-st-varent-le-lundi-4-mai-2026-sur-reservation/
LOCATION:St Varent\, saint varent\, 79330
CATEGORIES:Divers
ATTACH;FMTTYPE=image/webp:https://parthenayhistorique.ma-ville-en-3d.fr/wp-content/uploads/2026/04/2026-05-04-vente-volailles-st-varent.webp
END:VEVENT
BEGIN:VEVENT
DTSTART;VALUE=DATE:20260506
DTEND;VALUE=DATE:20260507
DTSTAMP:20260422T231723
CREATED:20260420T152959Z
LAST-MODIFIED:20260420T153128Z
UID:2487-1778025600-1778111999@parthenayhistorique.ma-ville-en-3d.fr
SUMMARY:Atelier de Biérologie à La Gargante de Parthenay\, le mercredi 6 mai 2026 de 21h à 23h sur inscription
DESCRIPTION:Atelier bierologie inédit !!!!!Vivez une expérience unique en compagnie de 2 membres de l’équipe de France de biérologie à La Gargante le mercredi 6 mai de 21h à 23h.Vous nous avez suivi sur les réseaux à l’occasion de la World Cup Beersommeliers Doemens ? Maintenant c’est à vous de participer à un entraînement de reconnaissance des styles de bières comme au championnat du monde : 10 verres de bières à relier au bon style.Et place ensuite au debrief détaillé avec plein de tips et astuces partagés par vos biérologues préférés  Tentez l’expérience et vous en ressortirez ravi !Ouvert à tous\, même debutantInscriptions obligatoires / places limitées 28€/pers. 10 bières dégustées + planche de charcuterie \n69 Rue de la Vau Saint-Jacques\, 79200 Parthenay
URL:https://parthenayhistorique.ma-ville-en-3d.fr/event/atelier-de-bierologie-a-la-gargante-de-parthenay-le-mercredi-6-mai-2026-de-21h-a-23h-sur-inscription/
LOCATION:Parthenay 79\, Parthenay\, 79200
CATEGORIES:Ateliers Créatifs,Divers
ATTACH;FMTTYPE=image/webp:https://parthenayhistorique.ma-ville-en-3d.fr/wp-content/uploads/2026/04/2026-05-06-atelier-bierologie-gargante.webp
END:VEVENT
BEGIN:VEVENT
DTSTART;VALUE=DATE:20260509
DTEND;VALUE=DATE:20260511
DTSTAMP:20260422T231723
CREATED:20260415T183051Z
LAST-MODIFIED:20260415T183051Z
UID:2242-1778284800-1778457599@parthenayhistorique.ma-ville-en-3d.fr
SUMMARY:Vide maison à Azay sur Thouet les samedi 09 et dimanche 10 mai 2026
DESCRIPTION:
URL:https://parthenayhistorique.ma-ville-en-3d.fr/event/vide-maison-a-azay-sur-thouet-les-samedi-09-et-dimanche-10-mai-2026/
LOCATION:Azay sur Thouet\, azay-sur-thouet\, 79130
CATEGORIES:Vide-grenier
ATTACH;FMTTYPE=image/webp:https://parthenayhistorique.ma-ville-en-3d.fr/wp-content/uploads/2026/04/2026-05-9et10-vide-maison-azay-sur-thouet.webp
END:VEVENT
BEGIN:VEVENT
DTSTART;VALUE=DATE:20260510
DTEND;VALUE=DATE:20260511
DTSTAMP:20260422T231723
CREATED:20260407T064656Z
LAST-MODIFIED:20260407T084232Z
UID:1680-1778371200-1778457599@parthenayhistorique.ma-ville-en-3d.fr
SUMMARY:Frappadingue le 10 mai 2026 à Parthenay
DESCRIPTION:Parcours sportif dans la boue\, eau\, obstacles. \n2 parcours : 6km et 12km. \nA voir en famille ou à participer dans toute la ville
URL:https://parthenayhistorique.ma-ville-en-3d.fr/event/frappadingue-le-10-mai-2026-a-parthenay/
LOCATION:Parthenay 79\, Parthenay\, 79200
CATEGORIES:Divers,Jeux
ATTACH;FMTTYPE=image/webp:https://parthenayhistorique.ma-ville-en-3d.fr/wp-content/uploads/2026/04/2026-05-10-frappadingue.webp
END:VEVENT
BEGIN:VEVENT
DTSTART;VALUE=DATE:20260513
DTEND;VALUE=DATE:20260514
DTSTAMP:20260422T231723
CREATED:20260413T170853Z
LAST-MODIFIED:20260413T171158Z
UID:2107-1778630400-1778716799@parthenayhistorique.ma-ville-en-3d.fr
SUMMARY:Carug-La Jazz bat la Campagne – Concert autour de la musique de Jeff Beck avec Blow\, à la Chevrie à Boussais le mercredi 13 mai 2026 à 19h30
DESCRIPTION:Après la très belle soirée aux ateliers de Chaussures de Gâtine\, le CARUG vous donne rendez-vous le mercredi 13 mai\, dans un très beau lieu de Gâtine\, La Chevrie à Boussais\, pour une soirée autour de la musique de Jeff Beck avec Blow. Participation libre – buvette et restauration sur place
URL:https://parthenayhistorique.ma-ville-en-3d.fr/event/carug-la-jazz-bat-la-campagne-concert-autour-de-la-musique-de-jeff-beck-avec-blow-a-la-chevrie-a-boussais-le-mercredi-13-mai-2026-a-19h30/
LOCATION:Boussais\, Boussais\, 79600
CATEGORIES:Concerts
ATTACH;FMTTYPE=image/jpeg:https://parthenayhistorique.ma-ville-en-3d.fr/wp-content/uploads/2026/04/670013330_1410322854231852_480380313934929108_n-PdoR10.jpg
END:VEVENT
BEGIN:VEVENT
DTSTART;VALUE=DATE:20260513
DTEND;VALUE=DATE:20260514
DTSTAMP:20260422T231723
CREATED:20260422T100622Z
LAST-MODIFIED:20260422T100809Z
UID:2615-1778630400-1778716799@parthenayhistorique.ma-ville-en-3d.fr
SUMMARY:Veillée Trad’ à la salle des fêtes La Gourgéenne à Gourgé le mercredi 13 mai à 20h30
DESCRIPTION:Pour la veillée trad de Mai\, Vivre au Pays se délocalise à Gourgé !\nRendez-vous à la salle des fêtes « La gourgéenne » pour un petit bal trad animé par les élèves de l’école de musique de Parthenay !\nHeure de début : 20h30
URL:https://parthenayhistorique.ma-ville-en-3d.fr/event/veillee-trad-a-la-salle-des-fetes-la-gourgeenne-a-gourge-le-mercredi-13-mai-a-20h30/
LOCATION:Gourgé\, gourge\, 79200
CATEGORIES:Concerts,Divers,Spectacles
ATTACH;FMTTYPE=image/jpeg:https://parthenayhistorique.ma-ville-en-3d.fr/wp-content/uploads/2026/04/672423930_1284977120431926_7603551377769446487_n-JfHhtd.jpg
END:VEVENT
BEGIN:VEVENT
DTSTART;VALUE=DATE:20260516
DTEND;VALUE=DATE:20260517
DTSTAMP:20260422T231723
CREATED:20260410T081105Z
LAST-MODIFIED:20260410T081105Z
UID:1909-1778889600-1778975999@parthenayhistorique.ma-ville-en-3d.fr
SUMMARY:Dîner Spectacle Dansant Années 80 le 16 mai 2026 à 19H à Saint Aubun le Cloud
DESCRIPTION:Choucroute party 20 euros l’entrée. \nSalle polyvalente
URL:https://parthenayhistorique.ma-ville-en-3d.fr/event/diner-spectacle-dansant-annees-80-le-16-mai-2026-a-19h-a-saint-aubun-le-cloud/
LOCATION:St Aubin le Cloud\, saint aubin le cloud\, 79450
CATEGORIES:Concerts,Divers,Spectacles
ATTACH;FMTTYPE=image/webp:https://parthenayhistorique.ma-ville-en-3d.fr/wp-content/uploads/2026/04/2026-05-16-diner-spectacle-annees-80-st-aubin-le-cloud.webp
END:VEVENT
BEGIN:VEVENT
DTSTART;VALUE=DATE:20260516
DTEND;VALUE=DATE:20260518
DTSTAMP:20260422T231723
CREATED:20260410T150958Z
LAST-MODIFIED:20260416T075835Z
UID:1919-1778889600-1779062399@parthenayhistorique.ma-ville-en-3d.fr
SUMMARY:4e édition du salon Unis Vers le Zen au Parc des Loges à Parthenay\, les 16 et 17 mai 2026
DESCRIPTION:Un rendez-vous à ne pas manquer arrive à Parthenay Les 16 et 17 mai\, le Salon Unis vers le Zen vous ouvre ses portes pour un week-end placé sous le signe du bien-être\, du partage et de la découverte Venez rencontrer de nombreux exposants passionnés : thérapeutes\, artisans\, créateurs…Laissez-vous porter par les énergies\, les échanges et les belles rencontres Au programme : conférences\, ateliers\, espaces intérieur & extérieur\, et une ambiance douce et ressourçante Un moment pour ralentir\, respirer\, vous reconnecter à vous-même… et simplement profiter Que vous soyez curieux\, en quête de sens ou juste à la recherche d’un moment hors du temps…Ce salon est fait pour vous On vous attend avec joie et bienveillance
URL:https://parthenayhistorique.ma-ville-en-3d.fr/event/4e-edition-du-salon-unis-vers-le-zen-au-domaine-des-loges-a-parthenay-les-16-et-17-mai-2026/
LOCATION:Parthenay 79\, Parthenay\, 79200
CATEGORIES:Divers,Expositions
ATTACH;FMTTYPE=image/webp:https://parthenayhistorique.ma-ville-en-3d.fr/wp-content/uploads/2026/04/2026-04-16-17-salon-univers-zen-Parthenay.webp
END:VEVENT
BEGIN:VEVENT
DTSTART;VALUE=DATE:20260516
DTEND;VALUE=DATE:20260518
DTSTAMP:20260422T231723
CREATED:20260422T160952Z
LAST-MODIFIED:20260422T161541Z
UID:2628-1778889600-1779062399@parthenayhistorique.ma-ville-en-3d.fr
SUMMARY:Exposition Art Paleto le samedi 16 (concert à 19h) et le dimanche 17 mai 2026\, à Barroux
DESCRIPTION:Art paleto vous incvite dans son jardin à Barroux – expo créations autour d’un verre – 5 artistes présents – Concert samedi 19h – 3 rue du bois aux chevres Barroux 79600 airvault
URL:https://parthenayhistorique.ma-ville-en-3d.fr/event/exposition-art-paleto-le-samedi-16-concert-a-19h-et-le-dimanche-17-mai-2026-a-barroux/
LOCATION:Airvault\, airvault\, 79600
CATEGORIES:Concerts,Divers,Expositions
ATTACH;FMTTYPE=image/jpeg:https://parthenayhistorique.ma-ville-en-3d.fr/wp-content/uploads/2026/04/673879365_17921460750302010_721830509805984504_n-JaKtm6.jpg
END:VEVENT
BEGIN:VEVENT
DTSTART;VALUE=DATE:20260517
DTEND;VALUE=DATE:20260518
DTSTAMP:20260422T231723
CREATED:20260413T172540Z
LAST-MODIFIED:20260413T173220Z
UID:2129-1778976000-1779062399@parthenayhistorique.ma-ville-en-3d.fr
SUMMARY:Fete des Plantes à Vouvant le dimanche 17 mai de 10h à 18h
DESCRIPTION:Évènement de Comité Des Fêtes Vouvant – Place du Bail\, 85120 Vouvant\, France – Le 17 mai à Vouvant\, les jardiniers pourront embellir leur jardin.\nLe comité des fêtes prépare cette animation pour tout public.\nA noter dans vos agendas: FÊTE DES PLANTES sur la place du Bail.
URL:https://parthenayhistorique.ma-ville-en-3d.fr/event/fete-des-plantes-a-vouvant-le-dimanche-17-mai-de-10h-a-18h/
LOCATION:vouvant\, vouvant\, 85120
CATEGORIES:Divers
ATTACH;FMTTYPE=image/jpeg:https://parthenayhistorique.ma-ville-en-3d.fr/wp-content/uploads/2026/04/656950511_1432226798704256_8268039353376635276_n-AXnL1H.jpg
END:VEVENT
END:VCALENDAR