BEGIN:VCALENDAR
VERSION:2.0
PRODID:-//Parthenay Historique - ECPv6.15.20//NONSGML v1.0//EN
CALSCALE:GREGORIAN
METHOD:PUBLISH
X-WR-CALNAME:Parthenay Historique
X-ORIGINAL-URL:https://parthenayhistorique.ma-ville-en-3d.fr
X-WR-CALDESC:Évènements pour Parthenay Historique
REFRESH-INTERVAL;VALUE=DURATION:PT1H
X-Robots-Tag:noindex
X-PUBLISHED-TTL:PT1H
BEGIN:VTIMEZONE
TZID:UTC
BEGIN:STANDARD
TZOFFSETFROM:+0000
TZOFFSETTO:+0000
TZNAME:UTC
DTSTART:20250101T000000
END:STANDARD
END:VTIMEZONE
BEGIN:VEVENT
DTSTART;VALUE=DATE:20260531
DTEND;VALUE=DATE:20260601
DTSTAMP:20260423T033618
CREATED:20260406T145341Z
LAST-MODIFIED:20260406T145341Z
UID:1636-1780185600-1780271999@parthenayhistorique.ma-ville-en-3d.fr
SUMMARY:Vide Grenier + Fête du Pain le 31 mai 2026 à Gourgé
DESCRIPTION:Restauration sur place avec « La Petite Marmite » (restaurant à Gourgé)
URL:https://parthenayhistorique.ma-ville-en-3d.fr/event/vide-grenier-fete-du-pain-le-31-mai-2026-a-gourge/
LOCATION:La petite Marmite Gourgé\, gourgé\, 79200
CATEGORIES:Vide-grenier
ATTACH;FMTTYPE=image/webp:https://parthenayhistorique.ma-ville-en-3d.fr/wp-content/uploads/2026/04/2026-05-31-vide-grenier-fete-du-pain-gourge.webp
END:VEVENT
END:VCALENDAR