BEGIN:VCALENDAR
VERSION:2.0
PRODID:-//Parthenay Historique - ECPv6.15.20//NONSGML v1.0//EN
CALSCALE:GREGORIAN
METHOD:PUBLISH
X-ORIGINAL-URL:https://parthenayhistorique.ma-ville-en-3d.fr
X-WR-CALDESC:Évènements pour Parthenay Historique
REFRESH-INTERVAL;VALUE=DURATION:PT1H
X-Robots-Tag:noindex
X-PUBLISHED-TTL:PT1H
BEGIN:VTIMEZONE
TZID:UTC
BEGIN:STANDARD
TZOFFSETFROM:+0000
TZOFFSETTO:+0000
TZNAME:UTC
DTSTART:20250101T000000
END:STANDARD
END:VTIMEZONE
BEGIN:VEVENT
DTSTART;VALUE=DATE:20260419
DTEND;VALUE=DATE:20260420
DTSTAMP:20260423T015954
CREATED:20260407T071330Z
LAST-MODIFIED:20260407T072015Z
UID:1687-1776556800-1776643199@parthenayhistorique.ma-ville-en-3d.fr
SUMMARY:Vide-grenier à Azay-sur-Thouet le dimanche 19 avril 2026 de 8h30 à 18h
DESCRIPTION:Animations toute la journée. \nRestauration sur place. \nRepas\, menu 12 euros sur réservation. \nMarché de producteurs.
URL:https://parthenayhistorique.ma-ville-en-3d.fr/event/vide-grenier-a-azay-sur-thouet-le-dimanche-19-avril-2026-de-8h30-a-18h/
LOCATION:Azay sur Thouet\, azay-sur-thouet\, 79130
CATEGORIES:Vide-grenier
ATTACH;FMTTYPE=image/webp:https://parthenayhistorique.ma-ville-en-3d.fr/wp-content/uploads/2026/04/2026-04-19-vide-grenier-azay-sur-thouet.webp
END:VEVENT
BEGIN:VEVENT
DTSTART;VALUE=DATE:20260419
DTEND;VALUE=DATE:20260420
DTSTAMP:20260423T015954
CREATED:20260413T170858Z
LAST-MODIFIED:20260413T171622Z
UID:2113-1776556800-1776643199@parthenayhistorique.ma-ville-en-3d.fr
SUMMARY:Vide-grenier à Thenezay le dimanche 19 avril 2026 de 8h à 18h
DESCRIPTION:
URL:https://parthenayhistorique.ma-ville-en-3d.fr/event/vide-grenier-a-thenezay-le-dimanche-19-avril-2026-de-8h-a-18h/
LOCATION:Thenezay\, thenezay\, 79390
CATEGORIES:Vide-grenier
ATTACH;FMTTYPE=image/jpeg:https://parthenayhistorique.ma-ville-en-3d.fr/wp-content/uploads/2026/04/670264865_1428372305973859_5218061912947570134_n-jUg3s3.jpg
END:VEVENT
END:VCALENDAR