BEGIN:VCALENDAR
VERSION:2.0
PRODID:-//Parthenay Historique - ECPv6.15.20//NONSGML v1.0//EN
CALSCALE:GREGORIAN
METHOD:PUBLISH
X-ORIGINAL-URL:https://parthenayhistorique.ma-ville-en-3d.fr
X-WR-CALDESC:Évènements pour Parthenay Historique
REFRESH-INTERVAL;VALUE=DURATION:PT1H
X-Robots-Tag:noindex
X-PUBLISHED-TTL:PT1H
BEGIN:VTIMEZONE
TZID:UTC
BEGIN:STANDARD
TZOFFSETFROM:+0000
TZOFFSETTO:+0000
TZNAME:UTC
DTSTART:20250101T000000
END:STANDARD
END:VTIMEZONE
BEGIN:VEVENT
DTSTART;VALUE=DATE:20260723
DTEND;VALUE=DATE:20260726
DTSTAMP:20260423T005008
CREATED:20260422T100621Z
LAST-MODIFIED:20260422T100904Z
UID:2613-1784764800-1785023999@parthenayhistorique.ma-ville-en-3d.fr
SUMMARY:Festival des cultures orales « De Bouche à Oreille » à Parthenay du 23 au 25 juillet 2026
DESCRIPTION:Cette année\, Sarah Guidoin nous fait à nouveau l’honneur de créer le visuel qui illustre cette 38? édition. Une édition qui célèbre nos identités multiculturelles et met en lumière nos racines. Celles qui racontent d’où l’on vient\, tout en s’ouvrant aux influences\, aux rencontres et aux imaginaires d’ailleurs.\nFidèle à cet esprit\, le festival propose des expériences sensibles\, singulières et profondément ouvertes\, où les cultures orales et traditionnelles d’ici dialoguent avec celles d’ailleurs. Une aventure portée par une construction collective\, où artistes\, habitant·es\, bénévoles et publics participent ensemble à faire vivre des patrimoines en partage\, en constante évolution. \nLa programmation arrive très bientôt… encore un peu de patience
URL:https://parthenayhistorique.ma-ville-en-3d.fr/event/festival-des-cultures-orales-de-bouche-a-oreille-a-parthenay-du-23-au-25-juillet-2026/
LOCATION:Parthenay 79\, Parthenay\, 79200
CATEGORIES:Concerts,Divers,Jeux,Spectacles
ATTACH;FMTTYPE=image/jpeg:https://parthenayhistorique.ma-ville-en-3d.fr/wp-content/uploads/2026/04/660062455_1411966377397002_2072731568576245849_n-k0SK8k.jpg
END:VEVENT
BEGIN:VEVENT
DTSTART;VALUE=DATE:20260904
DTEND;VALUE=DATE:20260907
DTSTAMP:20260423T005008
CREATED:20260422T160949Z
LAST-MODIFIED:20260422T161114Z
UID:2624-1788480000-1788739199@parthenayhistorique.ma-ville-en-3d.fr
SUMMARY:Montgolfiade de Thouars les 4\,5 et 6 septembre 2026
DESCRIPTION:La Montgolfiade de Thouars revient pour une 17ème édition qui s’annonce déjà MAGIQUE Rendez-vous les 4\, 5 & 6 septembre 2026 Toujours le premier week-end de septembre… et toujours plus de rêve dans le ciel Découvrez dès maintenant la nouvelle affiche… et préparez-vous à lever les yeux !Des montgolfières par dizaines\, des couleurs plein le ciel\, une ambiance unique… et des souvenirs à couper le souffle Envie de vivre l’expérience ?Les inscriptions pour les baptêmes en montgolfière sont ouvertes dès maintenant sur notre site www.montgolfiade.fr (rubrique « Vol en Montgolfière ») Notez la date\, invitez vos amis\, et restez connectés… de belles surprises arrivent !
URL:https://parthenayhistorique.ma-ville-en-3d.fr/event/montgolfiade-de-thouars-les-45-et-6-septembre-2026/
LOCATION:Thouars\, thouars\, 79100
CATEGORIES:Divers,Jeux,Spectacles
ATTACH;FMTTYPE=image/jpeg:https://parthenayhistorique.ma-ville-en-3d.fr/wp-content/uploads/2026/04/678199689_1249753223992290_2070166757340793836_n-vmndKW.jpg
END:VEVENT
END:VCALENDAR