BEGIN:VCALENDAR
VERSION:2.0
PRODID:-//Parthenay Historique - ECPv6.15.20//NONSGML v1.0//EN
CALSCALE:GREGORIAN
METHOD:PUBLISH
X-ORIGINAL-URL:https://parthenayhistorique.ma-ville-en-3d.fr
X-WR-CALDESC:Évènements pour Parthenay Historique
REFRESH-INTERVAL;VALUE=DURATION:PT1H
X-Robots-Tag:noindex
X-PUBLISHED-TTL:PT1H
BEGIN:VTIMEZONE
TZID:UTC
BEGIN:STANDARD
TZOFFSETFROM:+0000
TZOFFSETTO:+0000
TZNAME:UTC
DTSTART:20250101T000000
END:STANDARD
END:VTIMEZONE
BEGIN:VEVENT
DTSTART;VALUE=DATE:20260417
DTEND;VALUE=DATE:20260420
DTSTAMP:20260423T015832
CREATED:20260416T110650Z
LAST-MODIFIED:20260416T110650Z
UID:2310-1776384000-1776643199@parthenayhistorique.ma-ville-en-3d.fr
SUMMARY:Exposition 16 peintres de l'atelier arts plastiques du 17 au 19 avril 2026 à Pompaire
DESCRIPTION:10h/12h et 14h/18h \nsalle de la mairie de Pompaire \ngratuit
URL:https://parthenayhistorique.ma-ville-en-3d.fr/event/exposition-16-peintres-de-latelier-arts-plastiques-du-17-au-19-avril-2026-a-pompaire/
LOCATION:Pompaire\, pompaire\, 79200
CATEGORIES:Expositions
ATTACH;FMTTYPE=image/webp:https://parthenayhistorique.ma-ville-en-3d.fr/wp-content/uploads/2026/04/2026-04-17-18-19-expo-peintures-pompaire.webp
END:VEVENT
BEGIN:VEVENT
DTSTART;VALUE=DATE:20260418
DTEND;VALUE=DATE:20260419
DTSTAMP:20260423T015832
CREATED:20260406T132718Z
LAST-MODIFIED:20260407T071822Z
UID:1549-1776470400-1776556799@parthenayhistorique.ma-ville-en-3d.fr
SUMMARY:Portes ouvertes au local des Chars du carnaval le 18 avril de 10h à 18h (+ repas du soir)
DESCRIPTION:Les créateurs de chars vous ouvrent leurs portes.\nEntrée gratuite.\nRepas du soir possible (réservations avant le 11 avril).
URL:https://parthenayhistorique.ma-ville-en-3d.fr/event/portes-ouvertes-au-local-des-chars-du-carnaval-le-18-avril-de-10h-a-18h-repas-du-soir/
LOCATION:Chars\, rue du president allende\, Parthenay\, 79200
CATEGORIES:Divers,Expositions
ATTACH;FMTTYPE=image/webp:https://parthenayhistorique.ma-ville-en-3d.fr/wp-content/uploads/2026/04/2026-04-18-portes-ouvertes-local-chars.webp
END:VEVENT
BEGIN:VEVENT
DTSTART;VALUE=DATE:20260418
DTEND;VALUE=DATE:20260419
DTSTAMP:20260423T015832
CREATED:20260410T073225Z
LAST-MODIFIED:20260410T073225Z
UID:1888-1776470400-1776556799@parthenayhistorique.ma-ville-en-3d.fr
SUMMARY:Troc plantes - vide cabanon - échange local le samedi 18 avril à Le Busseau de 10h30 à 15h
DESCRIPTION:Évènement de Association L’Empreinte et Restaurant Le P’tit Canaillou.\n\n\n\n\n\n\n\n\n\n\n\n\n\n\n\n\n\n\n\nAllé\, c’est reparti pour le TROC PLANTES Printanier.Mais pas que\, ….\n1 – Vous échangez sur place vos graines\, semis\, plantes\, arbustes etc. C’est un moment d’échange\, de rencontre et de passion.\n2 – Vous aurez aussi l’occasion de vous inscrire au Système d’Echange Local qui met en avant vos savoirs\, connaissances\, qualités\, etc.\n3 – vous avez des outils\, des pots\, … tout ce qui est en lien avec le jardin à troquer\, partager\, prêter ? alors n’hésitez pas à nous contacter.4 – Apporter vos lames dev tondeuse\, faux\, sécateur\, hache…Franck notre camarade rémouleur sera présent.Attention espace limité ! 𝗕𝗔𝗥 & 𝗥𝗘𝗦𝗧𝗔𝗨𝗥𝗔𝗧𝗜𝗢𝗡 𝗦𝗨𝗥 𝗣𝗟𝗔𝗖𝗘.Rendez-vous de 10h30 à 15h Au Bar Restaurant Le P’tit Canaillou
URL:https://parthenayhistorique.ma-ville-en-3d.fr/event/troc-plantes-vide-cabanon-echange-local-le-samedi-18-avril-a-le-busseau-de-10h30-a-15h/
LOCATION:Le Busseau\, le busseau\, 79240
CATEGORIES:Divers,Expositions,Vide-grenier
ATTACH;FMTTYPE=image/webp:https://parthenayhistorique.ma-ville-en-3d.fr/wp-content/uploads/2026/04/2026-04-18-troc-plantes-a-le-busseau.webp
END:VEVENT
BEGIN:VEVENT
DTSTART;VALUE=DATE:20260418
DTEND;VALUE=DATE:20260419
DTSTAMP:20260423T015832
CREATED:20260413T172542Z
LAST-MODIFIED:20260413T173451Z
UID:2133-1776470400-1776556799@parthenayhistorique.ma-ville-en-3d.fr
SUMMARY:Exposition Atelier de peinture à échiré le samedi 18 avril 2026 de 10h à 19h
DESCRIPTION:L’atelier J.B. CHARDIN d’Echiré vous propose une nouvelle exposition de ses travaux d’atelier\, de ses travaux de stage avec des professionnels\, de ses œuvres personnelles.\nQue de la créativité\, pas de copie sauf exercice\, de la couleur pour égayer ce monde quelque peu morose.\nUn vernissage offert\, des lots à gagner! Venez venez!!!\nEt si l’aventure vous tente…
URL:https://parthenayhistorique.ma-ville-en-3d.fr/event/exposition-atelier-de-peinture-a-echire-le-samedi-18-avril-2026-de-10h-a-19h/
LOCATION:Echiré\, echire\, 79410
CATEGORIES:Expositions
ATTACH;FMTTYPE=image/jpeg:https://parthenayhistorique.ma-ville-en-3d.fr/wp-content/uploads/2026/04/661484995_2914965468705469_6420939104012315758_n-89AMXA.jpg
END:VEVENT
END:VCALENDAR