BEGIN:VCALENDAR
VERSION:2.0
PRODID:-//Parthenay Historique - ECPv6.15.20//NONSGML v1.0//EN
CALSCALE:GREGORIAN
METHOD:PUBLISH
X-WR-CALNAME:Parthenay Historique
X-ORIGINAL-URL:https://parthenayhistorique.ma-ville-en-3d.fr
X-WR-CALDESC:Évènements pour Parthenay Historique
REFRESH-INTERVAL;VALUE=DURATION:PT1H
X-Robots-Tag:noindex
X-PUBLISHED-TTL:PT1H
BEGIN:VTIMEZONE
TZID:UTC
BEGIN:STANDARD
TZOFFSETFROM:+0000
TZOFFSETTO:+0000
TZNAME:UTC
DTSTART:20250101T000000
END:STANDARD
END:VTIMEZONE
BEGIN:VEVENT
DTSTART;VALUE=DATE:20260418
DTEND;VALUE=DATE:20260419
DTSTAMP:20260423T040226
CREATED:20260406T132718Z
LAST-MODIFIED:20260407T071822Z
UID:1549-1776470400-1776556799@parthenayhistorique.ma-ville-en-3d.fr
SUMMARY:Portes ouvertes au local des Chars du carnaval le 18 avril de 10h à 18h (+ repas du soir)
DESCRIPTION:Les créateurs de chars vous ouvrent leurs portes.\nEntrée gratuite.\nRepas du soir possible (réservations avant le 11 avril).
URL:https://parthenayhistorique.ma-ville-en-3d.fr/event/portes-ouvertes-au-local-des-chars-du-carnaval-le-18-avril-de-10h-a-18h-repas-du-soir/
LOCATION:Chars\, rue du president allende\, Parthenay\, 79200
CATEGORIES:Divers,Expositions
ATTACH;FMTTYPE=image/webp:https://parthenayhistorique.ma-ville-en-3d.fr/wp-content/uploads/2026/04/2026-04-18-portes-ouvertes-local-chars.webp
END:VEVENT
BEGIN:VEVENT
DTSTART;VALUE=DATE:20260418
DTEND;VALUE=DATE:20260419
DTSTAMP:20260423T040226
CREATED:20260410T073225Z
LAST-MODIFIED:20260410T073225Z
UID:1888-1776470400-1776556799@parthenayhistorique.ma-ville-en-3d.fr
SUMMARY:Troc plantes - vide cabanon - échange local le samedi 18 avril à Le Busseau de 10h30 à 15h
DESCRIPTION:Évènement de Association L’Empreinte et Restaurant Le P’tit Canaillou.\n\n\n\n\n\n\n\n\n\n\n\n\n\n\n\n\n\n\n\nAllé\, c’est reparti pour le TROC PLANTES Printanier.Mais pas que\, ….\n1 – Vous échangez sur place vos graines\, semis\, plantes\, arbustes etc. C’est un moment d’échange\, de rencontre et de passion.\n2 – Vous aurez aussi l’occasion de vous inscrire au Système d’Echange Local qui met en avant vos savoirs\, connaissances\, qualités\, etc.\n3 – vous avez des outils\, des pots\, … tout ce qui est en lien avec le jardin à troquer\, partager\, prêter ? alors n’hésitez pas à nous contacter.4 – Apporter vos lames dev tondeuse\, faux\, sécateur\, hache…Franck notre camarade rémouleur sera présent.Attention espace limité ! 𝗕𝗔𝗥 & 𝗥𝗘𝗦𝗧𝗔𝗨𝗥𝗔𝗧𝗜𝗢𝗡 𝗦𝗨𝗥 𝗣𝗟𝗔𝗖𝗘.Rendez-vous de 10h30 à 15h Au Bar Restaurant Le P’tit Canaillou
URL:https://parthenayhistorique.ma-ville-en-3d.fr/event/troc-plantes-vide-cabanon-echange-local-le-samedi-18-avril-a-le-busseau-de-10h30-a-15h/
LOCATION:Le Busseau\, le busseau\, 79240
CATEGORIES:Divers,Expositions,Vide-grenier
ATTACH;FMTTYPE=image/webp:https://parthenayhistorique.ma-ville-en-3d.fr/wp-content/uploads/2026/04/2026-04-18-troc-plantes-a-le-busseau.webp
END:VEVENT
BEGIN:VEVENT
DTSTART;VALUE=DATE:20260418
DTEND;VALUE=DATE:20260419
DTSTAMP:20260423T040226
CREATED:20260413T172541Z
LAST-MODIFIED:20260413T173332Z
UID:2131-1776470400-1776556799@parthenayhistorique.ma-ville-en-3d.fr
SUMMARY:Concours de dessin au café de l’union à Louin le samedi 18 avril 2026 de 10h à 12h
DESCRIPTION:
URL:https://parthenayhistorique.ma-ville-en-3d.fr/event/concours-de-dessin-au-cafe-de-lunion-a-louin-le-samedi-18-avril-2026-de-10h-a-12h/
LOCATION:Louin\, louin\, 79600
CATEGORIES:Divers,Jeux
ATTACH;FMTTYPE=image/jpeg:https://parthenayhistorique.ma-ville-en-3d.fr/wp-content/uploads/2026/04/669330063_977455734713072_2842604602658415483_n-aImM0Y.jpg
END:VEVENT
BEGIN:VEVENT
DTSTART;VALUE=DATE:20260418
DTEND;VALUE=DATE:20260420
DTSTAMP:20260423T040226
CREATED:20260415T180435Z
LAST-MODIFIED:20260415T180435Z
UID:2232-1776470400-1776643199@parthenayhistorique.ma-ville-en-3d.fr
SUMMARY:Vide bibliothèque le samedi 18 de 9h à 18h et le dimanche 19 avril 2026 de 10h à 17h à Airvault
DESCRIPTION:
URL:https://parthenayhistorique.ma-ville-en-3d.fr/event/vide-bibliotheque-le-samedi-18-de-9h-a-18h-et-le-dimanche-19-avril-2026-de-10h-a-17h-a-airvault/
LOCATION:Airvault\, airvault\, 79600
CATEGORIES:Divers
ATTACH;FMTTYPE=image/webp:https://parthenayhistorique.ma-ville-en-3d.fr/wp-content/uploads/2026/04/2026-04-19-vide-bibliotheque-airvaut.webp
END:VEVENT
BEGIN:VEVENT
DTSTART;VALUE=DATE:20260418
DTEND;VALUE=DATE:20260420
DTSTAMP:20260423T040226
CREATED:20260415T182527Z
LAST-MODIFIED:20260415T182527Z
UID:2236-1776470400-1776643199@parthenayhistorique.ma-ville-en-3d.fr
SUMMARY:Ouverture de la ferme La Balade des Autruches à La Peyratte\, samedi et dimanche 18 et19 avril puis du vendredi 1e mai au dimanche 3 mai 2026
DESCRIPTION:[Printemps à la ferme – portes ouvertes] Un air de savane à La Peyratte !Envie d’une sortie qui sort de l’ordinaire ? Dans le cadre du Printemps à la Ferme organisé par Bienvenue à la ferme Deux-Sevres\, « La balade des Autruches  » vous ouvre ses portes pour une expérience totalement dépaysante ! Venez faire connaissance avec des hôtes impressionnants : autruches\, émeus et nandous vous attendent\, aux côtés des chèvres\, moutons et poneys de la ferme. Au programme : Visites libres ou guidées du parc. Rencontre avec le producteur passionné. Un grand moment de partage en pleine nature.le petit plus : C’est GRATUIT pour les enfants !samedi 18 et dimanche 19 avril\, vendredi 1er\, samedi 2 et dimanche 3 mai 202614h30 à 18h30 34 Route de la Forge\, La Peyratte (79).: 06 72 22 29 43 www.labaladedesautruches79.comAlors\, prêts pour l’aventure ? Identifiez en commentaire la personne avec qui vous aimeriez y aller !
URL:https://parthenayhistorique.ma-ville-en-3d.fr/event/ouverture-de-la-ferme-la-balade-des-autruches-a-la-peyratte-samedi-et-dimanche-18-et19-avril-puis-du-vendredi-1e-mai-au-dimanche-3-mai-2026/
LOCATION:La Peyratte\, la peyratte\, 79200
CATEGORIES:Divers
ATTACH;FMTTYPE=image/webp:https://parthenayhistorique.ma-ville-en-3d.fr/wp-content/uploads/2026/04/Ouverture-de-la-ferme-La-balade-des-Autruches-a-La-Peyrate-les-18et19avril-et-1.2.3mai2026.webp
END:VEVENT
END:VCALENDAR