BEGIN:VCALENDAR
VERSION:2.0
PRODID:-//Parthenay Historique - ECPv6.15.20//NONSGML v1.0//EN
CALSCALE:GREGORIAN
METHOD:PUBLISH
X-WR-CALNAME:Parthenay Historique
X-ORIGINAL-URL:https://parthenayhistorique.ma-ville-en-3d.fr
X-WR-CALDESC:Évènements pour Parthenay Historique
REFRESH-INTERVAL;VALUE=DURATION:PT1H
X-Robots-Tag:noindex
X-PUBLISHED-TTL:PT1H
BEGIN:VTIMEZONE
TZID:UTC
BEGIN:STANDARD
TZOFFSETFROM:+0000
TZOFFSETTO:+0000
TZNAME:UTC
DTSTART:20250101T000000
END:STANDARD
END:VTIMEZONE
BEGIN:VEVENT
DTSTART;VALUE=DATE:20260417
DTEND;VALUE=DATE:20260418
DTSTAMP:20260423T035930
CREATED:20260411T095912Z
LAST-MODIFIED:20260411T095912Z
UID:2034-1776384000-1776470399@parthenayhistorique.ma-ville-en-3d.fr
SUMMARY:Soirée concert - planche apéro le vendredi 17 avril 2026 à 20h30 à Secondigny
DESCRIPTION:Vous pouvez déjà réserver votre soirée et passer nous voir 5 ou 10 ou 15 min ou toute la soirée Nous accueillons le groupe Ladybugs music pour passer un moment fort sympathique avec une fin de soirée animée par Cindy Fantaisie  Réservation pour le repas et si vous souhaitez juste venir faire un tour c’est possible\,on vous accueil comme d’habitude nous sommes ouvert a tout le monde
URL:https://parthenayhistorique.ma-ville-en-3d.fr/event/soiree-concert-planche-apero-le-vendredi-17-avril-2026-a-20h30-a-secondigny/
LOCATION:Secondigny\, secondigny\, 79130
CATEGORIES:Concerts,Divers
ATTACH;FMTTYPE=image/webp:https://parthenayhistorique.ma-ville-en-3d.fr/wp-content/uploads/2026/04/2026-04-17-concert-secondigny.webp
END:VEVENT
END:VCALENDAR