BEGIN:VCALENDAR
VERSION:2.0
PRODID:-//Parthenay Historique - ECPv6.15.20//NONSGML v1.0//EN
CALSCALE:GREGORIAN
METHOD:PUBLISH
X-ORIGINAL-URL:https://parthenayhistorique.ma-ville-en-3d.fr
X-WR-CALDESC:Évènements pour Parthenay Historique
REFRESH-INTERVAL;VALUE=DURATION:PT1H
X-Robots-Tag:noindex
X-PUBLISHED-TTL:PT1H
BEGIN:VTIMEZONE
TZID:UTC
BEGIN:STANDARD
TZOFFSETFROM:+0000
TZOFFSETTO:+0000
TZNAME:UTC
DTSTART:20250101T000000
END:STANDARD
END:VTIMEZONE
BEGIN:VEVENT
DTSTART;VALUE=DATE:20260419
DTEND;VALUE=DATE:20260420
DTSTAMP:20260423T023611
CREATED:20260410T071615Z
LAST-MODIFIED:20260410T071717Z
UID:1878-1776556800-1776643199@parthenayhistorique.ma-ville-en-3d.fr
SUMMARY:Concert dans l'Eglise de St Loup sur Thouet le dimanche 19 avril de 17h à 18h (12/6 euros)- en faveur de la restauration de l'Eglise Notre Dame de la Coudre de Parthenay
DESCRIPTION:Concert de l’ensemble la Sportelle organisé par la Fondation du patrimoine en faveur de la restauration de l’église Notre-Dame de la Couldre de Parthenay. \n Le concert se tiendra dans l’église de Saint-Loup-sur-Thouet à 17h00.  \nEntrée : 12 euros / 6 euros pour les moins de 10 ans (public à partir de 6 ans).  \nRéservations conseillées : 06 88 79 31 84
URL:https://parthenayhistorique.ma-ville-en-3d.fr/event/concert-dans-leglise-de-st-loup-sur-thouet-le-dimanche-19-avril-de-17h-a-18h-12-6-euros-en-faveur-de-la-restauration-de-leglise-notre-dame-de-la-coudre-de-parthenay/
LOCATION:Saint-Loup lamairé\, saint loup lamaire\, 79600
CATEGORIES:Concerts
ATTACH;FMTTYPE=image/webp:https://parthenayhistorique.ma-ville-en-3d.fr/wp-content/uploads/2026/04/2026-04-19-concert-eglise-st-loup.webp
END:VEVENT
END:VCALENDAR