BEGIN:VCALENDAR
VERSION:2.0
PRODID:-//Parthenay Historique - ECPv6.15.20//NONSGML v1.0//EN
CALSCALE:GREGORIAN
METHOD:PUBLISH
X-ORIGINAL-URL:https://parthenayhistorique.ma-ville-en-3d.fr
X-WR-CALDESC:Évènements pour Parthenay Historique
REFRESH-INTERVAL;VALUE=DURATION:PT1H
X-Robots-Tag:noindex
X-PUBLISHED-TTL:PT1H
BEGIN:VTIMEZONE
TZID:UTC
BEGIN:STANDARD
TZOFFSETFROM:+0000
TZOFFSETTO:+0000
TZNAME:UTC
DTSTART:20250101T000000
END:STANDARD
END:VTIMEZONE
BEGIN:VEVENT
DTSTART;VALUE=DATE:20260803
DTEND;VALUE=DATE:20260808
DTSTAMP:20260423T060931
CREATED:20260406T160249Z
LAST-MODIFIED:20260407T072615Z
UID:1664-1785715200-1786147199@parthenayhistorique.ma-ville-en-3d.fr
SUMMARY:Plongez au coeur des réserves du musée et participez au chantier des collections archéologiques - du 3 au 7 août ou du 10 au 14 août 2026
DESCRIPTION:Atelier bénévole d’une semaine (2 sessions au choix – sur inscription) \ncela n’est pas un chantier de fouille. \nLes missions proposées sont des missions méticuleuses\, mais sont surtout une véritable chance de voir au plus près les traces de notre Histoire avec un grand H
URL:https://parthenayhistorique.ma-ville-en-3d.fr/event/plongez-au-coeur-des-reserves-du-musee-et-participez-au-chantier-des-collections-archeologiques-du-3-au-7-aout-ou-du-10-au-14-aout-2026/
LOCATION:Musée de Parthenay\, Parthenay\, 79200
CATEGORIES:Ateliers Créatifs,Divers
ATTACH;FMTTYPE=image/webp:https://parthenayhistorique.ma-ville-en-3d.fr/wp-content/uploads/2026/04/2026-08-03au14-chantier-musee.webp
END:VEVENT
END:VCALENDAR